BEGIN:VCALENDAR
VERSION:2.0
PRODID:-//Shiloh Christian Children&#039;s Ranch - ECPv6.15.18//NONSGML v1.0//EN
CALSCALE:GREGORIAN
METHOD:PUBLISH
X-WR-CALNAME:Shiloh Christian Children&#039;s Ranch
X-ORIGINAL-URL:https://shilohranch.org
X-WR-CALDESC:Events for Shiloh Christian Children&#039;s Ranch
REFRESH-INTERVAL;VALUE=DURATION:PT1H
X-Robots-Tag:noindex
X-PUBLISHED-TTL:PT1H
BEGIN:VTIMEZONE
TZID:UTC
BEGIN:STANDARD
TZOFFSETFROM:+0000
TZOFFSETTO:+0000
TZNAME:UTC
DTSTART:20240101T000000
END:STANDARD
END:VTIMEZONE
BEGIN:VEVENT
DTSTART;TZID=UTC:20250906T100000
DTEND;TZID=UTC:20250906T140000
DTSTAMP:20260425T190448
CREATED:20241210T210705Z
LAST-MODIFIED:20250825T183046Z
UID:5927-1757152800-1757167200@shilohranch.org
SUMMARY:Shiloh Open House
DESCRIPTION:Meet Shiloh children\, homeparents\, and staff! Enjoy a FREE delicious lunch served at noon. Take home a Shiloh momento / swag with our Shiloh logo.
URL:https://shilohranch.org/event/shiloh-open-house/
LOCATION:Shiloh Guest Lodge\, 1785 Deer Run Lane\, Clarence\, Missouri\, 63437\, United States
CATEGORIES:Open House
ATTACH;FMTTYPE=image/jpeg:https://shilohranch.org/wp-content/uploads/2025/08/SHILOH-OPEN-HOUSE-2025-UPDATED-scaled.jpg
END:VEVENT
END:VCALENDAR